BEGIN:VCALENDAR
VERSION:2.0
PRODID:-//Charlotte-Mecklenburg Historic Landmarks Commission - ECPv6.15.17.1//NONSGML v1.0//EN
CALSCALE:GREGORIAN
METHOD:PUBLISH
X-ORIGINAL-URL:http://landmarkscommission.org
X-WR-CALDESC:Events for Charlotte-Mecklenburg Historic Landmarks Commission
REFRESH-INTERVAL;VALUE=DURATION:PT1H
X-Robots-Tag:noindex
X-PUBLISHED-TTL:PT1H
BEGIN:VTIMEZONE
TZID:America/New_York
BEGIN:DAYLIGHT
TZOFFSETFROM:-0500
TZOFFSETTO:-0400
TZNAME:EDT
DTSTART:20200308T070000
END:DAYLIGHT
BEGIN:STANDARD
TZOFFSETFROM:-0400
TZOFFSETTO:-0500
TZNAME:EST
DTSTART:20201101T060000
END:STANDARD
BEGIN:DAYLIGHT
TZOFFSETFROM:-0500
TZOFFSETTO:-0400
TZNAME:EDT
DTSTART:20210314T070000
END:DAYLIGHT
BEGIN:STANDARD
TZOFFSETFROM:-0400
TZOFFSETTO:-0500
TZNAME:EST
DTSTART:20211107T060000
END:STANDARD
BEGIN:DAYLIGHT
TZOFFSETFROM:-0500
TZOFFSETTO:-0400
TZNAME:EDT
DTSTART:20220313T070000
END:DAYLIGHT
BEGIN:STANDARD
TZOFFSETFROM:-0400
TZOFFSETTO:-0500
TZNAME:EST
DTSTART:20221106T060000
END:STANDARD
END:VTIMEZONE
BEGIN:VEVENT
DTSTART;TZID=America/New_York:20210614T180000
DTEND;TZID=America/New_York:20210614T200000
DTSTAMP:20260419T155737
CREATED:20200921T170850Z
LAST-MODIFIED:20210608T165222Z
UID:17151-1623693600-1623700800@landmarkscommission.org
SUMMARY:HLC Monthly Meeting (Virtual Meeting)
DESCRIPTION:The June 14 meeting of the Historic Landmarks Commission will be a virtual meeting. Please note there will be no accommodation for any in-person attendance. If you need special accommodations\, please contact the HLC office at 980-314-7660. \nHLC Meeting Agenda
URL:http://landmarkscommission.org/event/hlc-monthly-meeting-45/
LOCATION:Virtual Meeting\, United States
CATEGORIES:General,HLC Meeting
END:VEVENT
BEGIN:VEVENT
DTSTART;TZID=America/New_York:20210614T180000
DTEND;TZID=America/New_York:20210614T200000
DTSTAMP:20260419T155737
CREATED:20210527T132049Z
LAST-MODIFIED:20210607T175218Z
UID:18763-1623693600-1623700800@landmarkscommission.org
SUMMARY:HLC Public Hearings (Virtual Meeting)
DESCRIPTION:Public Hearings for the Edgewood Plantation\, Ervin Building\, Larkwood-Chadbourn Hosiery Mill Plant\, William H. Peeps House\, and Victor Shaw House \nThe public will take notice that the Charlotte-Mecklenburg Historic Landmarks Commission will hold a virtual public hearing at 6:00 p.m. on the 14th day of June\, 2021\, on the following questions: \n\nThe potential amendment to the ordinance designating the “Edgewood Plantation” as a historic landmark (listed under Tax Parcel Numbers 02761104\, 02761105\, and 02761106 in the Mecklenburg County Tax Office\, Charlotte\, North Carolina as of March 1\, 2021)\, to de-designate all of the land associated with the historic landmark with the exception of the approximately two-acre parcel containing the historic plantation house\, the earlier log outbuilding\, and associated structures\, and the approximately 4.75-acre parcel identified as Tax Parcel Number 02761106. Tax Parcel Numbers 02761104 and 02761105 are owned by Bowman Sumner LLC. Tax Parcel Number 02761106 is owned by Melanie Jones McLeod. The property is located at 11100\, 11124\, and 11132 Eastfield Road\, within the City of Charlotte\, North Carolina;\n\nThe potential historic landmark designation of the “Ervin Building” (listed under Tax Parcel Numbers 13111110 and and 13111114 and including the interior and exterior of the building\, and the land listed under Tax Parcel Numbers 13111110 and 13111114 in the Mecklenburg County Tax Office\, Charlotte\, North Carolina as of February 1\, 2021). Said property is owned by The Ervin Building LLC\, and is located at 4037 East Independence Boulevard in Charlotte\, North Carolina;\nThe potential historic landmark designation of the “Larkwood-Chadbourn Hosiery Mill Plant” (listed under Tax Parcel Number 08306707 and including the interior and exterior of the mill building and boiler house\, the smokestack\, and the land listed under Tax Parcel Number 08306707 in the Mecklenburg County Tax Office\, Charlotte\, North Carolina as of March 1\, 2021). Said property is owned by Chadbourn Mill Owner LLC\, and is located at 451 Jordan Place in Charlotte\, North Carolina;\nThe potential historic landmark designation of the “William H. Peeps House” (listed under Tax Parcel Number 12108208 and including the interior and exterior of the house\, and the land listed under Tax Parcel Number 12108208 in the Mecklenburg County Tax Office\, Charlotte\, North Carolina as of February 1\, 2021). Said property is owned by Steven and Polly Menaker\, and is located at 831 East Worthington Avenue in Charlotte\, North Carolina; and\nThe potential amendment to the ordinance designating the “Victor Shaw House” as a historic landmark (listed under Tax Parcel Number 09505544 in the Mecklenburg County Tax Office\, Charlotte\, North Carolina as of January 1\, 2021)\, to de-designate all of the land associated with the historic landmark with the exception of the three parcels bordering Mecklenburg Avenue\, consisting of the parcel that contains the historic house and the two adjacent parcels lying immediately to the east and west of the historic house. Said property is owned by Mecklenburg Park\, LLC\, and is located at 2400 Mecklenburg Avenue in Charlotte\, North Carolina.\n\nThe hearings will allow the public to comment on the foregoing potential matters. For instructions on attending the virtual public hearings\, visit the Commission’s website at www.landmarkscommission.org or contact the Commission at 980-314-7660. All such designations and amendments would be pursuant to Chapter 160D\, Article 9\, as amended\, of the General Statutes of North Carolina.
URL:http://landmarkscommission.org/event/hlc-public-hearings-virtual-meeting/
LOCATION:Virtual Meeting\, United States
CATEGORIES:General,HLC Meeting
END:VEVENT
END:VCALENDAR